BEGIN:VCALENDAR
PRODID://WordPress//Event-Post-V5.9.2//EN
VERSION:2.0
BEGIN:VTIMEZONE
TZID:Europe/Madrid
BEGIN:DAYLIGHT
TZOFFSETFROM:+0100
TZOFFSETTO:+0200
DTSTART:19700329T020000
RRULE:FREQ=YEARLY;BYDAY=-1SU;BYMONTH=3
END:DAYLIGHT
BEGIN:STANDARD
TZOFFSETFROM:+0200
TZOFFSETTO:+0100
TZNAME:CET
DTSTART:19701025T030000
RRULE:FREQ=YEARLY;BYDAY=-1SU;BYMONTH=10
END:STANDARD
END:VTIMEZONE
BEGIN:VEVENT
SUMMARY:Saturnalia 2020: Anuncio y programa
UID:https://capa.unizar.es/?p=834
LOCATION:
DTSTAMP:20201221T120000
DTSTART;TZID=Europe/Madrid:20201221T120000
DTEND;TZID=Europe/Madrid:20201222T140000
DESCRIPTION:El solsticio de invierno se acerca inexorablemente y con él el comienzo de
nuestra conferencia anual de saturnalia.
Como novedades, este año nuestro Saturnalia 2020 comenzará el mismo día
del solsticio (21 de Diciembre) y se celebrará online (via zoom.us).
La conferencia Saturnalia 2020 tendrá este año un formato más relajado:
Duración:   21 de Diciembre, de 12h a 15h y 22 de Diciembre, de 12h a
14h.
Formato:   3~4 charlas de 30min cada día, con 15min para preguntas,
discusión, café y socialización online entre ellas.
Ponentes:    Konrad Altenmueller, Ernesto Arganda, Jacobo Asorey, Juan
Antonio García Pascual, Maurizio Giannotti, Yisely Martinez, Bodo Schwabe
... 
Calificación:   Todos los públicos (Hemos solicitado a los
conferenciantes que al menos la primera mitad de las charlas sean de un
nivel accesible, de modo que los estudiantes del Grado en Física son
bienvenidos).
Podéis encontrar todos los detalles  (incluidos los de conexión) en la
página de Saturnalia 2020:
                        
https://indico.capa.unizar.es/event/12/
Además podéis añadir el calendario de Saturnalia a vuestro e-calendario
mediante el siguiente enlace:
https://calendar.google.com/calendar/u/1?cid=Y18xMW1vNnBtN2VqYTlmaDU3OTlubmZ0dnNra0Bncm91cC5jYWxlbmRhci5nb29nbGUuY29t
END:VEVENT
END:VCALENDAR